BEGIN:VCALENDAR
VERSION:2.0
PRODID:-//Visby GK - ECPv6.10.3//NONSGML v1.0//EN
CALSCALE:GREGORIAN
METHOD:PUBLISH
X-ORIGINAL-URL:https://www.visbygk.com/sv/
X-WR-CALDESC:Händelser för Visby GK
REFRESH-INTERVAL;VALUE=DURATION:PT1H
X-Robots-Tag:noindex
X-PUBLISHED-TTL:PT1H
BEGIN:VTIMEZONE
TZID:Europe/Stockholm
BEGIN:DAYLIGHT
TZOFFSETFROM:+0100
TZOFFSETTO:+0200
TZNAME:CEST
DTSTART:20220327T010000
END:DAYLIGHT
BEGIN:STANDARD
TZOFFSETFROM:+0200
TZOFFSETTO:+0100
TZNAME:CET
DTSTART:20221030T010000
END:STANDARD
END:VTIMEZONE
BEGIN:VEVENT
DTSTART;TZID=Europe/Stockholm:20220425T152500
DTEND;TZID=Europe/Stockholm:20220425T160000
DTSTAMP:20260419T051917
CREATED:20220418T094949Z
LAST-MODIFIED:20220418T094949Z
UID:8913-1650900300-1650902400@www.visbygk.com
SUMMARY:Monday OPEN
DESCRIPTION:Läs mer på tävlingssidan här
URL:https://www.visbygk.com/sv/event/monday-open-13/
LOCATION:18-hålsbanan\, Sverige
END:VEVENT
BEGIN:VEVENT
DTSTART;VALUE=DATE:20220430
DTEND;VALUE=DATE:20220502
DTSTAMP:20260419T051917
CREATED:20220418T095107Z
LAST-MODIFIED:20220418T095120Z
UID:8917-1651276800-1651449599@www.visbygk.com
SUMMARY:Demodagar
DESCRIPTION:Mer info inom kort
URL:https://www.visbygk.com/sv/event/demodag/
LOCATION:Rangen
END:VEVENT
BEGIN:VEVENT
DTSTART;TZID=Europe/Stockholm:20220501T090000
DTEND;TZID=Europe/Stockholm:20220501T120000
DTSTAMP:20260419T051917
CREATED:20220418T095221Z
LAST-MODIFIED:20220418T095221Z
UID:8920-1651395600-1651406400@www.visbygk.com
SUMMARY:Avrostning
DESCRIPTION:Läs mer på träningssidan här
URL:https://www.visbygk.com/sv/event/avrostning/
END:VEVENT
END:VCALENDAR