BEGIN:VCALENDAR
VERSION:2.0
PRODID:-//Visby GK - ECPv6.10.3//NONSGML v1.0//EN
CALSCALE:GREGORIAN
METHOD:PUBLISH
X-ORIGINAL-URL:https://www.visbygk.com/sv/
X-WR-CALDESC:Händelser för Visby GK
REFRESH-INTERVAL;VALUE=DURATION:PT1H
X-Robots-Tag:noindex
X-PUBLISHED-TTL:PT1H
BEGIN:VTIMEZONE
TZID:Europe/Stockholm
BEGIN:DAYLIGHT
TZOFFSETFROM:+0100
TZOFFSETTO:+0200
TZNAME:CEST
DTSTART:20210328T010000
END:DAYLIGHT
BEGIN:STANDARD
TZOFFSETFROM:+0200
TZOFFSETTO:+0100
TZNAME:CET
DTSTART:20211031T010000
END:STANDARD
END:VTIMEZONE
BEGIN:VEVENT
DTSTART;TZID=Europe/Stockholm:20210816T154200
DTEND;TZID=Europe/Stockholm:20210816T170000
DTSTAMP:20260422T043836
CREATED:20210811T054226Z
LAST-MODIFIED:20210811T054226Z
UID:7787-1629128520-1629133200@www.visbygk.com
SUMMARY:Monday OPEN
DESCRIPTION:Läs mer på tävlingssidan
URL:https://www.visbygk.com/sv/event/monday-open-10/
LOCATION:18-hålsbanan\, Sverige
END:VEVENT
BEGIN:VEVENT
DTSTART;TZID=Europe/Stockholm:20210816T180000
DTEND;TZID=Europe/Stockholm:20210816T200000
DTSTAMP:20260422T043836
CREATED:20210809T085335Z
LAST-MODIFIED:20210809T085335Z
UID:7755-1629136800-1629144000@www.visbygk.com
SUMMARY:Elbilsseminarie
DESCRIPTION:Läs mer här
URL:https://www.visbygk.com/sv/event/elbilsseminarie/
LOCATION:Visby Golfklubb\, Sverige
END:VEVENT
BEGIN:VEVENT
DTSTART;TZID=Europe/Stockholm:20210817T050000
DTEND;TZID=Europe/Stockholm:20210817T150000
DTSTAMP:20260422T043836
CREATED:20210811T054431Z
LAST-MODIFIED:20210811T054431Z
UID:7789-1629176400-1629212400@www.visbygk.com
SUMMARY:VW Masters
DESCRIPTION:Läs mer på tävlingssidan
URL:https://www.visbygk.com/sv/event/vw-masters/
LOCATION:18-hålsbanan\, Sverige
END:VEVENT
BEGIN:VEVENT
DTSTART;TZID=Europe/Stockholm:20210821T100000
DTEND;TZID=Europe/Stockholm:20210821T140000
DTSTAMP:20260422T043836
CREATED:20210820T133756Z
LAST-MODIFIED:20210820T133756Z
UID:7870-1629540000-1629554400@www.visbygk.com
SUMMARY:Titleist fitting event
DESCRIPTION:Lördag 21 augusti\n10.00-14.00 \nBoka din tid på 0498-20 09 30
URL:https://www.visbygk.com/sv/event/titleist-fitting-event/
LOCATION:Rangen
END:VEVENT
END:VCALENDAR