BEGIN:VCALENDAR
VERSION:2.0
PRODID:-//Visby GK - ECPv6.10.3//NONSGML v1.0//EN
CALSCALE:GREGORIAN
METHOD:PUBLISH
X-WR-CALNAME:Visby GK
X-ORIGINAL-URL:https://www.visbygk.com/sv/
X-WR-CALDESC:Händelser för Visby GK
REFRESH-INTERVAL;VALUE=DURATION:PT1H
X-Robots-Tag:noindex
X-PUBLISHED-TTL:PT1H
BEGIN:VTIMEZONE
TZID:Europe/Stockholm
BEGIN:DAYLIGHT
TZOFFSETFROM:+0100
TZOFFSETTO:+0200
TZNAME:CEST
DTSTART:20210328T010000
END:DAYLIGHT
BEGIN:STANDARD
TZOFFSETFROM:+0200
TZOFFSETTO:+0100
TZNAME:CET
DTSTART:20211031T010000
END:STANDARD
END:VTIMEZONE
BEGIN:VEVENT
DTSTART;TZID=Europe/Stockholm:20210726T154200
DTEND;TZID=Europe/Stockholm:20210726T170000
DTSTAMP:20260422T025143
CREATED:20210629T133510Z
LAST-MODIFIED:20210629T133510Z
UID:7496-1627314120-1627318800@www.visbygk.com
SUMMARY:Monday OPEN
DESCRIPTION:Läs mer i tävlingsprogrammet under tävlingssidan
URL:https://www.visbygk.com/sv/event/monday-open-7/
LOCATION:18-hålsbanan\, Sverige
END:VEVENT
BEGIN:VEVENT
DTSTART;TZID=Europe/Stockholm:20210729T110000
DTEND;TZID=Europe/Stockholm:20210729T125100
DTSTAMP:20260422T025143
CREATED:20210629T133803Z
LAST-MODIFIED:20210629T133803Z
UID:7498-1627556400-1627563060@www.visbygk.com
SUMMARY:Veterantorsdag
DESCRIPTION:Läs mer i tävlingsprogrammet under tävlingssidan
URL:https://www.visbygk.com/sv/event/veterantorsdag-5/
LOCATION:18-hålsbanan\, Sverige
END:VEVENT
END:VCALENDAR