BEGIN:VCALENDAR
VERSION:2.0
PRODID:-//Visby GK - ECPv6.10.3//NONSGML v1.0//EN
CALSCALE:GREGORIAN
METHOD:PUBLISH
X-ORIGINAL-URL:https://www.visbygk.com/sv/
X-WR-CALDESC:Händelser för Visby GK
REFRESH-INTERVAL;VALUE=DURATION:PT1H
X-Robots-Tag:noindex
X-PUBLISHED-TTL:PT1H
BEGIN:VTIMEZONE
TZID:Europe/Stockholm
BEGIN:DAYLIGHT
TZOFFSETFROM:+0100
TZOFFSETTO:+0200
TZNAME:CEST
DTSTART:20210328T010000
END:DAYLIGHT
BEGIN:STANDARD
TZOFFSETFROM:+0200
TZOFFSETTO:+0100
TZNAME:CET
DTSTART:20211031T010000
END:STANDARD
END:VTIMEZONE
BEGIN:VEVENT
DTSTART;TZID=Europe/Stockholm:20210705T154200
DTEND;TZID=Europe/Stockholm:20210705T170000
DTSTAMP:20260422T005129
CREATED:20210621T094259Z
LAST-MODIFIED:20210621T094259Z
UID:7437-1625499720-1625504400@www.visbygk.com
SUMMARY:Monday OPEN
DESCRIPTION:Läs mer på sidan för tävlingar
URL:https://www.visbygk.com/sv/event/monday-open-4/
LOCATION:18-hålsbanan\, Sverige
END:VEVENT
BEGIN:VEVENT
DTSTART;TZID=Europe/Stockholm:20210706T000000
DTEND;TZID=Europe/Stockholm:20210706T085100
DTSTAMP:20260422T005129
CREATED:20210621T094026Z
LAST-MODIFIED:20210621T094026Z
UID:7433-1625529600-1625561460@www.visbygk.com
SUMMARY:Skötseltisdag
DESCRIPTION:18-hålsbanan stängd för extra skötsel.
URL:https://www.visbygk.com/sv/event/skotseltisdag/
LOCATION:18-hålsbanan\, Sverige
END:VEVENT
BEGIN:VEVENT
DTSTART;TZID=Europe/Stockholm:20210706T110000
DTEND;TZID=Europe/Stockholm:20210706T125100
DTSTAMP:20260422T005129
CREATED:20210621T095116Z
LAST-MODIFIED:20210621T095116Z
UID:7439-1625569200-1625575860@www.visbygk.com
SUMMARY:Årets Veteran
DESCRIPTION:Läs mer på sidan för tävlingar
URL:https://www.visbygk.com/sv/event/arets-veteran/
LOCATION:18-hålsbanan\, Sverige
END:VEVENT
BEGIN:VEVENT
DTSTART;TZID=Europe/Stockholm:20210708T060000
DTEND;TZID=Europe/Stockholm:20210708T150000
DTSTAMP:20260422T005129
CREATED:20210629T130227Z
LAST-MODIFIED:20210629T130227Z
UID:7479-1625724000-1625756400@www.visbygk.com
SUMMARY:Hjärtgolfen
DESCRIPTION:Se mer info i tävlingsprogrammet
URL:https://www.visbygk.com/sv/event/hjartgolfen/
LOCATION:18-hålsbanan\, Sverige
END:VEVENT
END:VCALENDAR