BEGIN:VCALENDAR
VERSION:2.0
PRODID:-//Visby GK - ECPv6.10.3//NONSGML v1.0//EN
CALSCALE:GREGORIAN
METHOD:PUBLISH
X-ORIGINAL-URL:https://www.visbygk.com/sv/
X-WR-CALDESC:Händelser för Visby GK
REFRESH-INTERVAL;VALUE=DURATION:PT1H
X-Robots-Tag:noindex
X-PUBLISHED-TTL:PT1H
BEGIN:VTIMEZONE
TZID:Europe/Stockholm
BEGIN:DAYLIGHT
TZOFFSETFROM:+0100
TZOFFSETTO:+0200
TZNAME:CEST
DTSTART:20210328T010000
END:DAYLIGHT
BEGIN:STANDARD
TZOFFSETFROM:+0200
TZOFFSETTO:+0100
TZNAME:CET
DTSTART:20211031T010000
END:STANDARD
END:VTIMEZONE
BEGIN:VEVENT
DTSTART;TZID=Europe/Stockholm:20210614T154200
DTEND;TZID=Europe/Stockholm:20210614T170000
DTSTAMP:20260421T214037
CREATED:20210609T075204Z
LAST-MODIFIED:20210609T075204Z
UID:7376-1623685320-1623690000@www.visbygk.com
SUMMARY:Monday OPEN
DESCRIPTION:Läs mer på tävlingssidan
URL:https://www.visbygk.com/sv/event/monday-open/
END:VEVENT
BEGIN:VEVENT
DTSTART;TZID=Europe/Stockholm:20210615T140000
DTEND;TZID=Europe/Stockholm:20210615T150000
DTSTAMP:20260421T214037
CREATED:20210609T075349Z
LAST-MODIFIED:20210609T075409Z
UID:7378-1623765600-1623769200@www.visbygk.com
SUMMARY:Teen Cup Klubbkval
DESCRIPTION:Se mer på tävlingssidan
URL:https://www.visbygk.com/sv/event/teen-cup-klubbkval/
LOCATION:18-hålsbanan\, Sverige
END:VEVENT
BEGIN:VEVENT
DTSTART;TZID=Europe/Stockholm:20210617T110000
DTEND;TZID=Europe/Stockholm:20210617T125100
DTSTAMP:20260421T214037
CREATED:20210609T075858Z
LAST-MODIFIED:20210609T075858Z
UID:7381-1623927600-1623934260@www.visbygk.com
SUMMARY:Veterantorsdag
DESCRIPTION:Läs mer på tävlingssidan
URL:https://www.visbygk.com/sv/event/veterantorsdag-2/
LOCATION:18-hålsbanan\, Sverige
END:VEVENT
END:VCALENDAR