BEGIN:VCALENDAR
VERSION:2.0
PRODID:-//Visby GK - ECPv6.10.3//NONSGML v1.0//EN
CALSCALE:GREGORIAN
METHOD:PUBLISH
X-ORIGINAL-URL:https://www.visbygk.com/sv/
X-WR-CALDESC:Händelser för Visby GK
REFRESH-INTERVAL;VALUE=DURATION:PT1H
X-Robots-Tag:noindex
X-PUBLISHED-TTL:PT1H
BEGIN:VTIMEZONE
TZID:Europe/Stockholm
BEGIN:DAYLIGHT
TZOFFSETFROM:+0100
TZOFFSETTO:+0200
TZNAME:CEST
DTSTART:20210328T010000
END:DAYLIGHT
BEGIN:STANDARD
TZOFFSETFROM:+0200
TZOFFSETTO:+0100
TZNAME:CET
DTSTART:20211031T010000
END:STANDARD
END:VTIMEZONE
BEGIN:VEVENT
DTSTART;TZID=Europe/Stockholm:20210430T130000
DTEND;TZID=Europe/Stockholm:20210430T150000
DTSTAMP:20260422T025736
CREATED:20210427T065922Z
LAST-MODIFIED:20210427T065922Z
UID:6513-1619787600-1619794800@www.visbygk.com
SUMMARY:Årsmöte Visby Golfklubb
DESCRIPTION:ANMÄL DIG TILL ÅRSMÖTET DEN 30 APRIL KLOCKAN 13.00!\nFör att kunna följa årsmötet via länk och göra din röst hörd och kunna rösta måste du anmäla dig genom att mejla till info@visbygk.com senast måndagen den 26 april. \nI och med att det är ett digitalt möte måste vi kunna mata in Ert namn i vårt system. Det går alltså inte att följa årsmötet om man inte anmält\nsig. \nNågra dagar innan mötet får du som anmält dig en länk och medföljande instruktioner. \nÅrsmöteshandlingar finns tillgängliga i receptionen och på hemsidan senast den 22 april. \nTidigare utskickat och på hemsidan publicerat prospekt om banförbättringar kommer att utgöra en del av årsmöteshandlingarna under rubriken: Styrelsens förslag. \nVäl mött!\nStyrelsen
URL:https://www.visbygk.com/sv/event/arsmote-visby-golfklubb/
END:VEVENT
END:VCALENDAR