BEGIN:VCALENDAR
VERSION:2.0
PRODID:-//Visby GK - ECPv6.10.3//NONSGML v1.0//EN
CALSCALE:GREGORIAN
METHOD:PUBLISH
X-ORIGINAL-URL:https://www.visbygk.com/sv/
X-WR-CALDESC:Händelser för Visby GK
REFRESH-INTERVAL;VALUE=DURATION:PT1H
X-Robots-Tag:noindex
X-PUBLISHED-TTL:PT1H
BEGIN:VTIMEZONE
TZID:Europe/Stockholm
BEGIN:DAYLIGHT
TZOFFSETFROM:+0100
TZOFFSETTO:+0200
TZNAME:CEST
DTSTART:20210328T010000
END:DAYLIGHT
BEGIN:STANDARD
TZOFFSETFROM:+0200
TZOFFSETTO:+0100
TZNAME:CET
DTSTART:20211031T010000
END:STANDARD
END:VTIMEZONE
BEGIN:VEVENT
DTSTART;TZID=Europe/Stockholm:20210610T080000
DTEND;TZID=Europe/Stockholm:20210610T170000
DTSTAMP:20260421T195954
CREATED:20210609T073958Z
LAST-MODIFIED:20210609T075519Z
UID:7374-1623312000-1623344400@www.visbygk.com
SUMMARY:Veterantorsdag
DESCRIPTION:Läs mer på tävlingssidan
URL:https://www.visbygk.com/sv/event/veterantorsdag/
LOCATION:18-hålsbanan\, Sverige
END:VEVENT
BEGIN:VEVENT
DTSTART;TZID=Europe/Stockholm:20210613T123400
DTEND;TZID=Europe/Stockholm:20210613T152500
DTSTAMP:20260421T195954
CREATED:20210609T073915Z
LAST-MODIFIED:20210609T074039Z
UID:7372-1623587640-1623597900@www.visbygk.com
SUMMARY:Klubbmatch mot När på hemmaplan
DESCRIPTION:Läs mer på tävlingssidan
URL:https://www.visbygk.com/sv/event/klubbmatch-mot-nar-pa-hemmaplan/
END:VEVENT
BEGIN:VEVENT
DTSTART;TZID=Europe/Stockholm:20210614T154200
DTEND;TZID=Europe/Stockholm:20210614T170000
DTSTAMP:20260421T195954
CREATED:20210609T075204Z
LAST-MODIFIED:20210609T075204Z
UID:7376-1623685320-1623690000@www.visbygk.com
SUMMARY:Monday OPEN
DESCRIPTION:Läs mer på tävlingssidan
URL:https://www.visbygk.com/sv/event/monday-open/
END:VEVENT
BEGIN:VEVENT
DTSTART;TZID=Europe/Stockholm:20210615T140000
DTEND;TZID=Europe/Stockholm:20210615T150000
DTSTAMP:20260421T195954
CREATED:20210609T075349Z
LAST-MODIFIED:20210609T075409Z
UID:7378-1623765600-1623769200@www.visbygk.com
SUMMARY:Teen Cup Klubbkval
DESCRIPTION:Se mer på tävlingssidan
URL:https://www.visbygk.com/sv/event/teen-cup-klubbkval/
LOCATION:18-hålsbanan\, Sverige
END:VEVENT
BEGIN:VEVENT
DTSTART;TZID=Europe/Stockholm:20210617T110000
DTEND;TZID=Europe/Stockholm:20210617T125100
DTSTAMP:20260421T195954
CREATED:20210609T075858Z
LAST-MODIFIED:20210609T075858Z
UID:7381-1623927600-1623934260@www.visbygk.com
SUMMARY:Veterantorsdag
DESCRIPTION:Läs mer på tävlingssidan
URL:https://www.visbygk.com/sv/event/veterantorsdag-2/
LOCATION:18-hålsbanan\, Sverige
END:VEVENT
BEGIN:VEVENT
DTSTART;TZID=Europe/Stockholm:20210621T154200
DTEND;TZID=Europe/Stockholm:20210621T170000
DTSTAMP:20260421T195954
CREATED:20210609T080138Z
LAST-MODIFIED:20210609T080138Z
UID:7383-1624290120-1624294800@www.visbygk.com
SUMMARY:Monday OPEN
DESCRIPTION:Läs mer på tävlingssidan
URL:https://www.visbygk.com/sv/event/monday-open-2/
LOCATION:18-hålsbanan\, Sverige
END:VEVENT
BEGIN:VEVENT
DTSTART;TZID=Europe/Stockholm:20210622T110000
DTEND;TZID=Europe/Stockholm:20210622T125100
DTSTAMP:20260421T195954
CREATED:20210609T080439Z
LAST-MODIFIED:20210609T080439Z
UID:7385-1624359600-1624366260@www.visbygk.com
SUMMARY:Veterantisdag
DESCRIPTION:Läs mer på tävlingssidan
URL:https://www.visbygk.com/sv/event/veterantisdag/
LOCATION:18-hålsbanan\, Sverige
END:VEVENT
BEGIN:VEVENT
DTSTART;TZID=Europe/Stockholm:20210624T090000
DTEND;TZID=Europe/Stockholm:20210624T125100
DTSTAMP:20260421T195954
CREATED:20210621T092115Z
LAST-MODIFIED:20210621T092115Z
UID:7424-1624525200-1624539060@www.visbygk.com
SUMMARY:Veteran Flaggtävling
DESCRIPTION:
URL:https://www.visbygk.com/sv/event/veteran-flaggtavling/
LOCATION:9-hålsbanan\, Sverige
END:VEVENT
BEGIN:VEVENT
DTSTART;TZID=Europe/Stockholm:20210627T060000
DTEND;TZID=Europe/Stockholm:20210627T142500
DTSTAMP:20260421T195954
CREATED:20210621T093014Z
LAST-MODIFIED:20210621T093014Z
UID:7429-1624773600-1624803900@www.visbygk.com
SUMMARY:Bibosfatet
DESCRIPTION:Läs mer på tävlingssidan
URL:https://www.visbygk.com/sv/event/bibosfatet/
LOCATION:9-hålsbanan\, Sverige
END:VEVENT
BEGIN:VEVENT
DTSTART;TZID=Europe/Stockholm:20210628T100000
DTEND;TZID=Europe/Stockholm:20210628T130000
DTSTAMP:20260421T195954
CREATED:20210621T093303Z
LAST-MODIFIED:20210621T093303Z
UID:7431-1624874400-1624885200@www.visbygk.com
SUMMARY:Juniortouren
DESCRIPTION:
URL:https://www.visbygk.com/sv/event/juniortouren/
LOCATION:9-hålsbanan\, Sverige
END:VEVENT
BEGIN:VEVENT
DTSTART;TZID=Europe/Stockholm:20210628T154200
DTEND;TZID=Europe/Stockholm:20210628T170000
DTSTAMP:20260421T195954
CREATED:20210621T094155Z
LAST-MODIFIED:20210621T094155Z
UID:7435-1624894920-1624899600@www.visbygk.com
SUMMARY:Monday OPEN
DESCRIPTION:Läs mer på sidan för tävlingar
URL:https://www.visbygk.com/sv/event/monday-open-3/
LOCATION:18-hålsbanan\, Sverige
END:VEVENT
BEGIN:VEVENT
DTSTART;VALUE=DATE:20210629
DTEND;VALUE=DATE:20210701
DTSTAMP:20260421T195954
CREATED:20210426T075545Z
LAST-MODIFIED:20210426T075629Z
UID:6345-1624924800-1625097599@www.visbygk.com
SUMMARY:Stickluftning av 18-hålsbanans greener
DESCRIPTION:Stickluftning av 18-hålsbanans greener.\nAlternativ slinga spelas. 9-hålsbanan + 9 hål på 18-hålsbanan (1-9 eller 10-18).
URL:https://www.visbygk.com/sv/event/luftning-av-18-halsbanans-greener/2021-06-29/
END:VEVENT
END:VCALENDAR