BEGIN:VCALENDAR
VERSION:2.0
PRODID:-//Visby GK - ECPv6.10.3//NONSGML v1.0//EN
CALSCALE:GREGORIAN
METHOD:PUBLISH
X-WR-CALNAME:Visby GK
X-ORIGINAL-URL:https://www.visbygk.com/sv/
X-WR-CALDESC:Händelser för Visby GK
REFRESH-INTERVAL;VALUE=DURATION:PT1H
X-Robots-Tag:noindex
X-PUBLISHED-TTL:PT1H
BEGIN:VTIMEZONE
TZID:Europe/Stockholm
BEGIN:DAYLIGHT
TZOFFSETFROM:+0100
TZOFFSETTO:+0200
TZNAME:CEST
DTSTART:20210328T010000
END:DAYLIGHT
BEGIN:STANDARD
TZOFFSETFROM:+0200
TZOFFSETTO:+0100
TZNAME:CET
DTSTART:20211031T010000
END:STANDARD
END:VTIMEZONE
BEGIN:VEVENT
DTSTART;TZID=Europe/Stockholm:20210926T080000
DTEND;TZID=Europe/Stockholm:20210930T170000
DTSTAMP:20260422T043005
CREATED:20210818T124621Z
LAST-MODIFIED:20210818T124621Z
UID:7847-1632643200-1633021200@www.visbygk.com
SUMMARY:Visby Open by Destination Gotland MoreGolf Mastercard Tour
DESCRIPTION:26 september – Inspel och skötsel\n27 september – PRO AM\n28 september – Tävlingsdag 1\n29 september – Tävlingsdag 2\n30 september – Finaldag
URL:https://www.visbygk.com/sv/event/visby-open-by-destination-gotland-moregolf-mastercard-tour/
LOCATION:18-hålsbanan\, Sverige
END:VEVENT
END:VCALENDAR