BEGIN:VCALENDAR
VERSION:2.0
PRODID:-//Visby GK - ECPv6.10.3//NONSGML v1.0//EN
CALSCALE:GREGORIAN
METHOD:PUBLISH
X-ORIGINAL-URL:https://www.visbygk.com/sv/
X-WR-CALDESC:Händelser för Visby GK
REFRESH-INTERVAL;VALUE=DURATION:PT1H
X-Robots-Tag:noindex
X-PUBLISHED-TTL:PT1H
BEGIN:VTIMEZONE
TZID:Europe/Stockholm
BEGIN:DAYLIGHT
TZOFFSETFROM:+0100
TZOFFSETTO:+0200
TZNAME:CEST
DTSTART:20210328T010000
END:DAYLIGHT
BEGIN:STANDARD
TZOFFSETFROM:+0200
TZOFFSETTO:+0100
TZNAME:CET
DTSTART:20211031T010000
END:STANDARD
END:VTIMEZONE
BEGIN:VEVENT
DTSTART;VALUE=DATE:20210824
DTEND;VALUE=DATE:20210826
DTSTAMP:20260422T010405
CREATED:20210820T053528Z
LAST-MODIFIED:20210820T053528Z
UID:7868-1629763200-1629935999@www.visbygk.com
SUMMARY:Luftning av 9-hålsbanans greener
DESCRIPTION:
URL:https://www.visbygk.com/sv/event/luftning-av-9-halsbanans-greener-2/
LOCATION:9-hålsbanan\, Sverige
END:VEVENT
END:VCALENDAR